BEGIN:VCALENDAR
VERSION:2.0
PRODID:-//Triquetra Training Services - ECPv5.3.1//NONSGML v1.0//EN
CALSCALE:GREGORIAN
METHOD:PUBLISH
X-WR-CALNAME:Triquetra Training Services
X-ORIGINAL-URL:https://www.ttseducation.com.au/staging
X-WR-CALDESC:Events for Triquetra Training Services
BEGIN:VTIMEZONE
TZID:UTC
BEGIN:STANDARD
TZOFFSETFROM:+0000
TZOFFSETTO:+0000
TZNAME:UTC
DTSTART:20200101T000000
END:STANDARD
END:VTIMEZONE
BEGIN:VEVENT
DTSTART;TZID=UTC:20201130T090000
DTEND;TZID=UTC:20201202T160000
DTSTAMP:20210227T143508
CREATED:20200215T185936Z
LAST-MODIFIED:20200215T185936Z
UID:731-1606726800-1606924800@www.ttseducation.com.au
SUMMARY:Organise and complete daily work activities
DESCRIPTION:Organise and complete daily work activities   \nBSBWOR202\n\nThis unit describes the skills and knowledge required to seek feedback for performance improvement and use current technology appropriate to the task.\nIt applies to individuals working under direct supervision who develop basic skills and knowledge for working in a broad range of settings.\n\nNo licensing\, legislative\, regulatory or certification requirements apply to this unit at the time of publication.\n\nThis Unit consists of the following Elements:\n1. Organise work schedule\n2. Complete work tasks\n3. Review work performance\n\nClick here to download the course outline from Training.gov.au\n \n\nIntroduction:\n\n\n\nTarget Audience:\n\n\n\n\nLearning Outcomes:\n\n\n\nLearning Methods:\n\n\n\nProgram Benefits:\n\n\n\nContent:\n\n\n\n\nName\nDate\nTime\nLocation\nAvailable Spaces\nCost\n\n\n\nEnquire
URL:https://www.ttseducation.com.au/staging/event/organise-and-complete-daily-work-activities-2/
LOCATION:Ballarat Community Health Centre\, Ballarat Community Health Centre\, Australia
CATEGORIES:Workshop
END:VEVENT
END:VCALENDAR